Workbook
Name __kk06: #REF!
Name __kk06: #REF!
Name __kk06: #REF!
Name __kk06: #REF!
Name __kk29: #REF!
Name __kk29: #REF!
Name __kk29: #REF!
Name __kk29: #REF!
Name _kk06: #REF!
Name _kk06: #REF!
Name _kk06: #REF!
Name _kk06: #REF!
Name _kk29: #REF!
Name _kk29: #REF!
Name _kk29: #REF!
Name a: #REF!
Name a: #REF!
Name aa: #REF!
Name aa: #REF!
Name Avrg: #REF!
Name Avrg: #REF!
Name Avrg: #REF!
Name avrg1: #REF!
Name avrg1: #REF!
Name avrg1: #REF!
Name bb: #REF!
Name bb: #REF!
Name cc: #REF!
Name cc: #REF!
Name ccc: #REF!
Name ccc: #REF!
Name DaihyoFurigana: #REF!
Name DaihyoFurigana: #REF!
Name DaihyoFurigana: #REF!
Name DaihyoJyusho: #REF!
Name DaihyoJyusho: #REF!
Name DaihyoJyusho: #REF!
Name DaihyoShimei: #REF!
Name DaihyoShimei: #REF!
Name DaihyoShimei: #REF!
Name DaihyoShokumei: #REF!
Name DaihyoShokumei: #REF!
Name DaihyoShokumei: #REF!
Name DaihyoYubin: #REF!
Name DaihyoYubin: #REF!
Name DaihyoYubin: #REF!
Name dd: #REF!
Name dd: #REF!
Name ff: #REF!
Name ff: #REF!
Name gg: #REF!
Name gg: #REF!
Name hh: #REF!
Name hh: #REF!
Name houjin: #REF!
Name houjin: #REF!
Name houjin: #REF!
Name HoujinShokatsu: #REF!
Name HoujinShokatsu: #REF!
Name HoujinShokatsu: #REF!

Sheet ★変更届提出書類一覧
A1: ●変更届の提出書類一覧（児童福祉法関係）
A2: ★留意事項
A3: ・変更後10日以内に提出してください。
A4: ・ただし、「障害児(入所・通所)給付期の請求に関する事項」で加算を追加する場合には、事前の届出が必要です。
A5: 加算が算定可能となるタイミングは下記を参照してください。
A6: 15日以前に区に到着 → 翌月 ※15日が休業日の場合は、前日の営業日以前に区に到着
A7: 16日後に区に到着 → 翌々月
A8: ・下記添付書類以外にも、参考になる書類がありましたら添付してください。
A9: ・収受印を押した変更届の写しを希望される場合は、変更届の写しと切手を貼付した返信用封筒を同封してください。
A11: 事前相談 | B11: 変更事由/変更後内容を記載の必要書類 | C11: 変更届出書 | D11: 指定変更申請書 | E11: 付表 (サービスにより様式が異なります) | F11: 登記簿謄本 (履歴事項全部証明) | G11: 条令 (公営事業所のみ) | H11: 事業所の平面図・賃貸借契約書 | I11: 経歴書 | K11: 資格証の写し | L11: 児童発達支援管理責任者研修修了証書 ※4 | M11: 相談支援従事者研修修了証書 ※4 | N11: 実務経験証明書 ※5 | O11: 勤務体制一覧表 | P11: 運営規程 | Q11: 協力医療機関リスト | R11: 非該当誓約書及び役員等名簿 | S11: 耐震化調査票 | T11: 雇用契約書・辞令
I12: 管理者 | J12: 児童発達支援管理責任者
A13: 要 | B13: 事業所（施設）の名称 | C13: ● | D13: ● | E13: ● | P13: ●
A14: 要 | B14: 事業所（施設）の所在地（設置の場所） ＊電話・ＦＡＸ番号が変わった場合は必ず電話・ＦＡＸ番号も記載すること | C14: ● | D14: ● | E14: ● | H14: ● ※3 | P14: ● | S14: ●
B15: 事業所（施設）の連絡先（電話番号） | C15: ● | D15: ● | E15: ● | P15: ●
A16: 要 | B16: 申請者（設置者）の名称 【法人名変更】 | C16: ● | D16: ● | F16: ● | G16: ● | P16: ● | R16: ●
A17: 要 | B17: 主たる事務所の所在地 ※2 【法人本部・区市町村役所の移転】 ＊電話・ＦＡＸ番号が変わった場合は必ず電話・ＦＡＸ番号も記載すること | C17: ● | D17: ● | F17: ● | G17: ●
B18: 代表者の氏名、住所及び職名 | C18: ● | D18: ● | F18: ● | R18: ●
B19: 登記簿の謄本又は条例等（当該事業に関するものに限る。） （役員等の変更も含む） | C19: ● | D19: ● | E19: ● | F19: ● | G19: ● | R19: ●
A20: 要 | B20: 事業所（施設）の平面図及び設備の概要 ※2 | C20: ● | H20: ● ※3
A21: 要 | B21: 事業所（施設）の管理者の氏名及び住所 ※６ | C21: ● | E21: ● | I21: ● | O21: ● | R21: ● | T21: ●
A22: 要 | B22: 事業所（施設）の児童発達支援管理責任者の氏名及び住所 ※６ | C22: ● | E22: ● | J22: ● | K22: ● | L22: ● | M22: ● | N22: ● | O22: ● | P22: ▲ | T22: ●
A23: 要 | B23: 定員の変更 | C23: ● | D23: ● | E23: ● | O23: ● | P23: ●
A24: 要 | B24: 主たる対象者（重心／重心外の追加含む）※７ | C24: 加算届出書類一式を参照してください
A25: 要 | B25: 運営規程 【営業時間の変更、従業員の員数の変更、その他の変更】※７ | C25: ● | E25: ● | O25: ● | P25: ● | T25: ●
B26: 協力医療機関の名称及び診療科名 並びに当該医療機関との契約内容 | C26: ● | E26: ● | Q26: ●
A28: ※１ 上記変更事由に記載のない職員（指導員・保育士等）の変更については、加算に影響がある場合のみ届出を行うこと。申請方法は加算届出書類一式を参照すること。
A29: ※２ 移転・レイアウト変更の際は、平面図及びチェックが完了した設備基準チェックリストを変更日の２か月以上前までに区へ提出する必要があります。
A30: ※３ 賃貸借契約書、新耐震基準を満たす物件であることを示す書類を添付すること。電話、ＦＡＸ番号を変更した場合は番号確認ができる電話会社からの回線通知を添付すること。別途室内写真の添付を求めることがあります。
A31: ※４ やむを得ない事情により、研修を未受講の場合は受講誓約書を代わりに添付すること。
A32: ※５ 申請する法人と実務経験証明書を発行する法人が同一の場合、雇用を証明する書類（雇用保険証、雇用契約書、源泉徴収票等の写し等）を添付すること。
A33: ※６ 管理者・児童発達支援管理責任者を変更する場合、当該事業所で勤務することが確認できる書類（雇用契約書等（事業所内異動の場合は辞令でも可））を添付すること。
A34: ※７ 加算に関する内容が含まれるため、前月１５日までに提出が必要です。なお、加算に関する書類についても添付が必要です。（加算届提出書類一式のシートを参照すること）
W70: 様式
V71: 加算等

Sheet 変更届出書
A2: 指定障害児通所支援事業所／指定障害児入所施設
S4: 変更届出書
AD5: 年 | AG5: 月 | AJ5: 日
C6: 文京区長 殿
S7: 所在地
O8: 申請者 | S8: 名称
S9: 代表者氏名
B11: 次のとおり指定を受けた内容を変更しましたので届け出ます。
B13: FALSE | C13: 指定障害福祉サービス事業所等の指定に係る事項の変更の届出先（以下「指定権者」という。）と指定障害福祉サービス
C14: 事業所等の業務管理体制の整備に関する事項の変更の届出先（以下「監督権者」という。）が同一の自治体であり、かつ、
C15: 変更事項が「事業所（施設）の所在地」又は「申請者の代表者の氏名、生年月日、住所及び職名」の場合であって、同事項
C16: に係る事実の確認に支障がないと認めるときは、監督権者への変更の届出又は届出書への記載については、指定権者
C17: への変更の届出があったことをもって省略させることができることとされているので、その場合には左のチェックボックス（□）
C18: に✓を付してください。なお、当該変更届出を受理した指定権者は、当該変更届出の写しを監督権者へ回付してください。
T20: 事業所番号
B21: 指定を受けた内容を変更した事業所又は施設 | T21: 名称
T23: 所在地
B26: サービスの種類
B27: 変更年月日 | Y27: 年 | AC27: 月 | AG27: 日
B28: 変更があった事項（該当に○） | T28: 変更の内容
D29: 事業所（施設）の名称 | T29: （変更前）
D30: 事業所（施設）の所在地
D31: 事業所（施設）の連絡先（電話番号）
D32: 申請者の名称
D33: 申請者の主たる事務所の所在地
D34: 申請者の代表者の氏名、生年月日、住所及び職名
D35: 法人等の種類
D36: 登記事項証明書又は条例等（当該事業に関するものに限る。）
D37: 共生型サービスの該当有無
D38: 事業所（施設）の構造概要・平面図・設備の概要
D39: 利用者又は入所者の定員 | T39: （変更後）
D40: 管理者の氏名、生年月日、住所及び経歴
D41: サービス管理（提供）責任者又は児童発達支援管理責任者の氏名、生年月日、住所及び経歴
D42: 指定地域相談支援の提供に当たる者又は相談支援専門員の氏名、生年月日、住所及び経歴
D43: 運営規程
D44: 協力医療機関・協力歯科医療機関の名称・診療科名・契約内容
D45: 提携就労支援機関の名称
D46: 提供する障害福祉サービス等の種類
D47: 第三者委託により提供する障害福祉サービス等の種類等
D48: 事業実施形態（事業所の種別等）
D49: 従業者の勤務の体制及び勤務形態
D50: その他
B51: （備考）
B52: １ 変更届の提出に際しては、必要書類を添付してください。
B53: ２ 「変更があった事項」の「変更の内容」は、変更前と変更後の内容が具体的に分かるように記入してください。

Sheet 指定申請書
A2: 指定障害児通所支援事業所/指定障害児入所施設
E4: 指定変更 | G4: 申請書
O5: 年 | R5: 月 | U5: 日
B6: 文京区長殿
H7: 所在地 | K7: =変更届出書!W7 -> 0
G8: 申請者 | H8: 名 称 | K8: =変更届出書!W8 -> 0
H9: 代表者 | K9: =変更届出書!Z9 -> 0
B11: 表題の事業所・施設に係る指定/指定の更新/指定の変更を受けたいので、下記のとおり、関係書類を添えて申請します。
F13: 法人番号(13桁)
A14: 申請者(設置者) | B14: フリガナ
B15: 名称 | D15: =変更届出書!W8 -> 0
B16: 主たる事務所の所在地 | D16: (郵便番号 | F16: - | I16: ）
D17: =変更届出書!W7 -> 0
B19: 連絡先 | D19: 電話番号
D20: E-mailアドレス
B21: 法人等の種類
B22: 代表者の職名・氏名・生年月日 | D22: 職名 | G22: フリガナ | M22: 生年月日
G23: 氏名 | H23: =変更届出書!Z9 -> 0
B24: 代表者の住所 | D24: (郵便番号 | F24: - | I24: ）
A27: 指定を受けようとする事業所・施設の種類 | B27: フリガナ
B28: 名称 | D28: =変更届出書!W21 -> 0
B29: 事業所(施設)の所在地 | D29: (郵便番号 | F29: - | I29: ）
D30: =変更届出書!W23 -> 0
B32: 多機能型事業所に係る指定の申請の場合は○
B33: 同一所在地において 行う事業等の種類 | F33: 今回の指定(更新・変更)申請をする対象事業等に○ | H33: 既に指定を受けている事業に○ | L33: =IF(E4="指定更新","指定有効期限","事業の開始予定年月日") -> 事業の開始予定年月日 | R33: 本申請書に添付して提出する様式(付表)
E34: 共生型サービスの指定を申請するものに○
B35: 指定障害児通所支援事業所 | C35: 児童発達支援 | R35: 付表16
C36: 放課後等デイサービス | R36: 付表16
C37: 居宅訪問型児童発達支援 | R37: 付表17
C38: 保育所等訪問支援 | R38: 付表18
B39: 指定障害児入所施設
A40: 【既に指定を受けている場合】事業所番号
A41: (備考)
A42: 1 | B42: 本申請書の表題は、指定の更新の申請の際には「指定更新申請書」に、指定の変更の申請の際には「指定変更申請書」に変更して使用してください。
A43: 2 | B43: 「法人等の種類」欄には、「社会福祉法人(社協以外)」、「社会福祉法人(社協)」、「医療法人」、「社団・財団」、「営利法人」、「非営利法人(ＮＰＯ)」、「農協」、「生協」、「その他法人」、「地方公共団体(都道府県)」、「地方公共団体(市町村)」、「地方公共団体(広域連合・一部事務組合等)」、「非法人」、「その他」のいずれかを記入してください。
A44: 3 | B44: 「同一所在地において行う事業等の種類」欄には、今回申請をする事業及び既に指定を受けている事業のそれぞれに「○」を記載してください。
A45: 4 | B45: 「【既に指定を受けている場合】事業所番号」欄には、申請を行う都道府県等において既に事業所としての指定を受け、番号が付番されている場合に、その事業所番号を記載してください。
A46: 5 | B46: 「事業の開始予定年月日」欄については、更新の場合にあっては、現に受けている指定の有効期間満了日を記載してください。

Sheet 付表16_児童発達支援
A1: 付表16 児童発達支援事業所の指定等に係る記載事項
B2: 主として通わせる児童の障害の種別
A3: サービス種別(申請する種別に○) | E3: 〇 | F3: 児童発達支援 | J3: 放課後等デイサービス
A4: 児童発達支援センターに該当するか （該当する場合は、○）
A6: 事業所 | B6: フリガナ | C6: =指定申請書!D27 -> 0
B7: 名 称 | C7: =指定申請書!D28 -> 0
B8: 所在地 | C8: (郵便番号 | D8: =指定申請書!E29 -> 0 | E8: - | F8: =指定申請書!G29 -> 0 | G8: )
C9: =指定申請書!D30 -> 0
B11: 電話番号
B12: E-Mail
A13: 管理者 | B13: フリガナ | F13: 生年月日
B14: 氏 名
B15: 住 所 | C15: (郵便番号 | E15: - | G15: )
B18: 他の事業所又は施設の従業者との兼務(兼務の場合記入) | D18: 事業所等の名称
D19: 兼務する職種及び勤務時間等
A21: 児童発達支援管理責任者 | B21: フリガナ | F21: 生年月日
B22: 氏 名
B23: 住 所 | C23: (郵便番号 | E23: - | G23: )
A26: 実施主体が地方公共団体である場合は、当該事業の実施について定めてある条例等 | H26: 第 条 第 項 第 号
A27: ○運営・設備に関する基準の確認に必要な事項
A28: 利用定員(人)
A29: 利用者の推定数(人)
A30: 営業日(該当する日に○) | C30: 日 | D30: 月 | E30: 火 | F30: 水 | G30: 木 | H30: 金 | J30: 土 | L30: 祝
C32: その他(年末年始等)
A33: 営業時間 | C33: 平日 | E33: ： | G33: ～ | J33: ：
C34: 土曜 | E34: ： | G34: ～ | J34: ：
C35: 日・祝 | E35: ： | G35: ～ | J35: ：
A36: 送迎の有無 | C36: 有 | E36: 無 | F36: =IF(D36="○","","○") -> ○
A37: 利用料 | C37: こども家庭庁長官が定める基準による額
A38: その他の費用
A39: 通常の事業の実施地域 | C39: 文京区
A40: 協力医療機関 | C40: 名称 | G40: 主な診療科名
A41: ○一体的に実施する従たる事業所の指定等に係る記載事項 従たる事業所の指定等を受けている場合は、以下に記載してください。
A42: 事業所 | B42: フリガナ
B43: 名 称
B44: 所在地 | C44: (郵便番号 | E44: - | G44: )
B47: 電話番号
B48: E-Mail
A49: 管理者 | B49: フリガナ | F49: 生年月日
B50: 氏 名 | H50: 年 | J50: 月 | L50: 日
B51: 住 所 | C51: (郵便番号 | E51: - | G51: )
B54: 他の事業所又は施設の従業者との兼務(兼務の場合記入) | D54: 事業所等の名称
D55: 兼務する職種及び勤務時間等
A57: 児童発達支援管理責任者 | B57: フリガナ | F57: 生年月日
B58: 氏 名 | H58: 年 | J58: 月 | L58: 日
B59: 住 所 | C59: (郵便番号 | E59: - | G59: )
A62: 実施主体が地方公共団体である場合は、当該事業の実施について定めてある条例等 | H62: =H26 -> 第 条 第 項 第 号
A63: 利用定員(人)
A64: 利用者の推定数(人)
A65: 営業日(該当する日に○) | C65: 日 | D65: 月 | E65: 火 | F65: 水 | G65: 木 | H65: 金 | J65: 土 | L65: 祝
C67: その他(年末年始等)
A68: 営業時間 | C68: 平日 | E68: ： | G68: ～ | J68: ：
C69: 土曜 | E69: ： | G69: ～ | J69: ：
C70: 日・祝 | E70: ： | G70: ～ | J70: ：
A71: 送迎の有無 | C71: 有 | D71: ○ | E71: 無 | F71: =IF(D71="○","","○")
A72: 利用料
A73: その他の費用
A74: 通常の事業の実施地域
A75: 協力医療機関 | C75: 名称 | G75: 主な診療科名
A76: (備考)
A77: １．記入欄が不足する場合は、次頁の「記入欄不足時の資料」に記載して添付してください。
A78: ２．更新の場合には、「利用者の推定数」欄は前年度の平均利用者数を記入してください。
A79: ３．「その他の費用」欄には、利用者に直接金銭の負担を求める場合のサービス内容についても記載してください。
A80: 記入欄不足時の資料
A81: ■児童発達支援管理責任者 児童発達管理責任者を複数配置する場合には、以下に記載してください。
A82: 児童発達支援管理責任者 | B82: フリガナ | F82: 生年月日
B83: 氏 名 | H83: 年 | J83: 月 | L83: 日
B84: 住 所 | C84: (郵便番号 | E84: - | G84: )
D85: 都 | F85: 区
B87: フリガナ | F87: 生年月日
B88: 氏 名 | H88: 年 | J88: 月 | L88: 日
B89: 住 所 | C89: (郵便番号 | E89: - | G89: )
D90: 都 | F90: 区
B92: フリガナ | F92: 生年月日
B93: 氏 名 | H93: 年 | J93: 月 | L93: 日
B94: 住 所 | C94: (郵便番号 | E94: - | G94: )
D95: 都 | F95: 区
B97: フリガナ | F97: 生年月日
B98: 氏 名 | H98: 年 | J98: 月 | L98: 日
B99: 住 所 | C99: (郵便番号 | E99: - | G99: )
D100: 都 | F100: 市
B102: フリガナ | F102: 生年月日
B103: 氏 名 | H103: 年 | J103: 月 | L103: 日
B104: 住 所 | C104: (郵便番号 | E104: - | G104: )
D105: 都 | F105: 市
B107: フリガナ | F107: 生年月日
B108: 氏 名 | H108: 年 | J108: 月 | L108: 日
B109: 住 所 | C109: (郵便番号 | E109: - | G109: )
D110: 都 | F110: 郡
A113: ■協力医療機関 協力医療機関が複数ある場合には、以下に記載してください。
A114: 協力医療機関 | C114: 名称 | G114: 主な診療科名
C115: 名称 | G115: 主な診療科名
C116: 名称 | G116: 主な診療科名
C117: 名称 | G117: 主な診療科名
C118: 名称 | G118: 主な診療科名

Sheet 付表16_放課後等デイサービス
A1: 付表16 放課後等デイサービス事業所の指定等に係る記載事項
B2: 主として通わせる児童の障害の種別
A3: サービス種別(申請する種別に○) | F3: 児童発達支援 | H3: 〇 | J3: 放課後等デイサービス
A4: 児童発達支援センターに該当するか （該当する場合は、○）
A6: 事業所 | B6: フリガナ | C6: =指定申請書!D27 -> 0
B7: 名 称 | C7: =指定申請書!D28 -> 0
B8: 所在地 | C8: (郵便番号 | D8: =指定申請書!E29 -> 0 | E8: - | F8: =指定申請書!G29 -> 0 | G8: )
C9: =指定申請書!D30 -> 0
B11: 電話番号
B12: E-Mail
A13: 管理者 | B13: フリガナ | F13: 生年月日
B14: 氏 名
B15: 住 所 | C15: (郵便番号 | E15: - | G15: )
B18: 他の事業所又は施設の従業者との兼務(兼務の場合記入) | D18: 事業所等の名称
D19: 兼務する職種及び勤務時間等
A21: 児童発達支援管理責任者 | B21: フリガナ | F21: 生年月日
B22: 氏 名
B23: 住 所 | C23: (郵便番号 | E23: - | G23: )
A26: 実施主体が地方公共団体である場合は、当該事業の実施について定めてある条例等 | H26: 第 条 第 項 第 号
A27: ○運営・設備に関する基準の確認に必要な事項
A28: 利用定員(人)
A29: 利用者の推定数(人)
A30: 営業日(該当する日に○) | C30: 日 | D30: 月 | E30: 火 | F30: 水 | G30: 木 | H30: 金 | J30: 土 | L30: 祝
C32: その他(年末年始等)
A33: 営業時間 | C33: 平日 | E33: ： | G33: ～ | J33: ：
C34: 土曜 | E34: ： | G34: ～ | J34: ：
C35: 日・祝 | E35: ： | G35: ～ | J35: ：
A36: 送迎の有無 | C36: 有 | E36: 無 | F36: =IF(D36="○","","○") -> ○
A37: 利用料 | C37: こども家庭庁長官が定める基準による額
A38: その他の費用
A39: 通常の事業の実施地域 | C39: 文京区
A40: 協力医療機関 | C40: 名称 | G40: 主な診療科名
A41: ○一体的に実施する従たる事業所の指定等に係る記載事項 従たる事業所の指定等を受けている場合は、以下に記載してください。
A42: 事業所 | B42: フリガナ
B43: 名 称
B44: 所在地 | C44: (郵便番号 | E44: - | G44: )
B47: 電話番号
B48: E-Mail
A49: 管理者 | B49: フリガナ | F49: 生年月日
B50: 氏 名 | H50: 年 | J50: 月 | L50: 日
B51: 住 所 | C51: (郵便番号 | E51: - | G51: )
B54: 他の事業所又は施設の従業者との兼務(兼務の場合記入) | D54: 事業所等の名称
D55: 兼務する職種及び勤務時間等
A57: 児童発達支援管理責任者 | B57: フリガナ | F57: 生年月日
B58: 氏 名 | H58: 年 | J58: 月 | L58: 日
B59: 住 所 | C59: (郵便番号 | E59: - | G59: )
A62: 実施主体が地方公共団体である場合は、当該事業の実施について定めてある条例等 | H62: =H26 -> 第 条 第 項 第 号
A63: 利用定員(人)
A64: 利用者の推定数(人)
A65: 営業日(該当する日に○) | C65: 日 | D65: 月 | E65: 火 | F65: 水 | G65: 木 | H65: 金 | J65: 土 | L65: 祝
C67: その他(年末年始等)
A68: 営業時間 | C68: 平日 | E68: ： | G68: ～ | J68: ：
C69: 土曜 | E69: ： | G69: ～ | J69: ：
C70: 日・祝 | E70: ： | G70: ～ | J70: ：
A71: 送迎の有無 | C71: 有 | D71: ○ | E71: 無 | F71: =IF(D71="○","","○")
A72: 利用料
A73: その他の費用
A74: 通常の事業の実施地域
A75: 協力医療機関 | C75: 名称 | G75: 主な診療科名
A76: (備考)
A77: １．記入欄が不足する場合は、次頁の「記入欄不足時の資料」に記載して添付してください。
A78: ２．更新の場合には、「利用者の推定数」欄は前年度の平均利用者数を記入してください。
A79: ３．「その他の費用」欄には、利用者に直接金銭の負担を求める場合のサービス内容についても記載してください。
A80: 記入欄不足時の資料
A81: ■児童発達支援管理責任者 児童発達管理責任者を複数配置する場合には、以下に記載してください。
A82: 児童発達支援管理責任者 | B82: フリガナ | F82: 生年月日
B83: 氏 名 | H83: 年 | J83: 月 | L83: 日
B84: 住 所 | C84: (郵便番号 | E84: - | G84: )
D85: 都 | F85: 区
B87: フリガナ | F87: 生年月日
B88: 氏 名 | H88: 年 | J88: 月 | L88: 日
B89: 住 所 | C89: (郵便番号 | E89: - | G89: )
D90: 都 | F90: 区
B92: フリガナ | F92: 生年月日
B93: 氏 名 | H93: 年 | J93: 月 | L93: 日
B94: 住 所 | C94: (郵便番号 | E94: - | G94: )
D95: 都 | F95: 区
B97: フリガナ | F97: 生年月日
B98: 氏 名 | H98: 年 | J98: 月 | L98: 日
B99: 住 所 | C99: (郵便番号 | E99: - | G99: )
D100: 都 | F100: 市
B102: フリガナ | F102: 生年月日
B103: 氏 名 | H103: 年 | J103: 月 | L103: 日
B104: 住 所 | C104: (郵便番号 | E104: - | G104: )
D105: 都 | F105: 市
B107: フリガナ | F107: 生年月日
B108: 氏 名 | H108: 年 | J108: 月 | L108: 日
B109: 住 所 | C109: (郵便番号 | E109: - | G109: )
D110: 都 | F110: 郡
A113: ■協力医療機関 協力医療機関が複数ある場合には、以下に記載してください。
A114: 協力医療機関 | C114: 名称 | G114: 主な診療科名
C115: 名称 | G115: 主な診療科名
C116: 名称 | G116: 主な診療科名
C117: 名称 | G117: 主な診療科名
C118: 名称 | G118: 主な診療科名

Sheet 付表17_居宅訪問型児童発達支援
A1: 付表17 居宅訪問型児童発達支援事業所の指定等に係る記載事項
A3: 事業所 | B3: フリガナ | C3: =指定申請書!D27 -> 0
B4: 名 称 | C4: =指定申請書!D28 -> 0
B5: 所在地 | C5: (郵便番号 | D5: =指定申請書!E29 -> 0 | E5: - | F5: =指定申請書!G29 -> 0 | G5: )
C6: =指定申請書!D30 -> 0
B8: 電話番号
B9: E-Mail
A10: 管理者 | B10: フリガナ | F10: 生年月日
B11: 氏 名
B12: 住 所 | C12: (郵便番号 | E12: - | G12: )
B15: 他の事業所又は施設の従業者との兼務(兼務の場合記入) | D15: 事業所等の名称
D16: 兼務する職種及び勤務時間等
A18: 児童発達支援管理責任者 | B18: フリガナ | F18: 生年月日
B19: 氏 名
B20: 住 所 | C20: (郵便番号 | E20: - | G20: )
A23: 実施主体が地方公共団体である場合は、当該事業の実施について定めてある条例等 | H23: 第 条 第 項 第 号
A24: ○運営・設備に関する基準の確認に必要な事項
A25: 専用の区画の有無 | C25: 有 | E25: 無 | F25: =IF(D25="○","","○") -> ○
A26: 営業日(該当する日に○) | C26: 日 | D26: 月 | E26: 火 | F26: 水 | G26: 木 | H26: 金 | J26: 土 | L26: 祝
C28: その他(年末年始等)
A29: 営業時間 | C29: 平日 | E29: ： | G29: ～ | J29: ：
C30: 土曜 | E30: ： | G30: ～ | J30: ：
C31: 日・祝 | E31: ： | G31: ～ | J31: ：
A32: 利用料 | C32: こども家庭庁長官が定める基準による額
A33: その他の費用
A34: 通常の事業の実施地域 | C34: 文京区
A35: 協力医療機関 | C35: 名称 | G35: 主な診療科名
A36: (備考)
A37: １．記入欄が不足する場合は、次頁の「記入欄不足時の資料」に記載して添付してください。
A38: ２．「その他の費用」欄には、利用者に直接金銭の負担を求める場合のサービス内容についても記載してく ださい。
A39: 記入欄不足時の資料
A40: ■児童発達支援管理責任者 児童発達管理責任者を複数配置する場合には、以下に記載してください。
A41: 児童発達支援管理責任者 | B41: フリガナ | F41: 生年月日
B42: 氏 名 | H42: 年 | J42: 月 | L42: 日
B43: 住 所 | C43: (郵便番号 | E43: - | G43: )
D44: 都 | F44: 区
B46: フリガナ | F46: 生年月日
B47: 氏 名 | H47: 年 | J47: 月 | L47: 日
B48: 住 所 | C48: (郵便番号 | E48: - | G48: )
D49: 都 | F49: 区
B51: フリガナ | F51: 生年月日
B52: 氏 名 | H52: 年 | J52: 月 | L52: 日
B53: 住 所 | C53: (郵便番号 | E53: - | G53: )
D54: 都 | F54: 区
B56: フリガナ | F56: 生年月日
B57: 氏 名 | H57: 年 | J57: 月 | L57: 日
B58: 住 所 | C58: (郵便番号 | E58: - | G58: )
D59: 都 | F59: 市
B61: フリガナ | F61: 生年月日
B62: 氏 名 | H62: 年 | J62: 月 | L62: 日
B63: 住 所 | C63: (郵便番号 | E63: - | G63: )
D64: 都 | F64: 市
B66: フリガナ | F66: 生年月日
B67: 氏 名 | H67: 年 | J67: 月 | L67: 日
B68: 住 所 | C68: (郵便番号 | E68: - | G68: )
D69: 都 | F69: 郡

Sheet 付表18_保育所等訪問支援
A1: 付表18 保育所等訪問支援事業所の指定等に係る記載事項
A3: 事業所 | B3: フリガナ | C3: =指定申請書!D27 -> 0
B4: 名 称 | C4: =指定申請書!D28 -> 0
B5: 所在地 | C5: (郵便番号 | D5: =指定申請書!E29 -> 0 | E5: - | F5: =指定申請書!G29 -> 0 | G5: )
C6: =指定申請書!D30 -> 0
B8: 電話番号
B9: E-Mail
A10: 管理者 | B10: フリガナ | F10: 生年月日
B11: 氏 名
B12: 住 所 | C12: (郵便番号 | E12: - | G12: )
B15: 他の事業所又は施設の従業者との兼務(兼務の場合記入) | D15: 事業所等の名称
D16: 兼務する職種及び勤務時間等
A18: 児童発達支援管理責任者 | B18: フリガナ | F18: 生年月日
B19: 氏 名
B20: 住 所 | C20: (郵便番号 | E20: - | G20: )
A23: 実施主体が地方公共団体である場合は、当該事業の実施について定めてある条例等 | H23: 第 条 第 項 第 号
A24: ○運営・設備に関する基準の確認に必要な事項
A25: 営業日(該当する日に○) | C25: 日 | D25: 月 | E25: 火 | F25: 水 | G25: 木 | H25: 金 | J25: 土 | L25: 祝
C27: その他(年末年始等)
A28: 営業時間 | C28: 平日 | E28: ： | G28: ～ | J28: ：
C29: 土曜 | E29: ： | G29: ～ | J29: ：
C30: 日・祝 | E30: ： | G30: ～ | J30: ：
A31: 利用料 | C31: こども家庭庁長官が定める基準による額
A32: その他の費用
A33: 通常の事業の実施地域 | C33: 文京区
A34: (備考)
A35: １．記入欄が不足する場合は、次頁の「記入欄不足時の資料」に記載して添付してください。
A36: ２．「その他の費用」欄には、利用者に直接金銭の負担を求める場合のサービス内容についても記載してく ださい。
A37: 記入欄不足時の資料
A38: ■児童発達支援管理責任者 児童発達管理責任者を複数配置する場合には、以下に記載してください。
A39: 児童発達支援管理責任者 | B39: フリガナ | F39: 生年月日
B40: 氏 名 | H40: 年 | J40: 月 | L40: 日
B41: 住 所 | C41: (郵便番号 | E41: - | G41: )
B44: フリガナ | F44: 生年月日
B45: 氏 名 | H45: 年 | J45: 月 | L45: 日
B46: 住 所 | C46: (郵便番号 | E46: - | G46: )
B49: フリガナ | F49: 生年月日
B50: 氏 名 | H50: 年 | J50: 月 | L50: 日
B51: 住 所 | C51: (郵便番号 | E51: - | G51: )
B54: フリガナ | F54: 生年月日
B55: 氏 名 | H55: 年 | J55: 月 | L55: 日
B56: 住 所 | C56: (郵便番号 | E56: - | G56: )
B59: フリガナ | F59: 生年月日
B60: 氏 名 | H60: 年 | J60: 月 | L60: 日
B61: 住 所 | C61: (郵便番号 | E61: - | G61: )
B64: フリガナ | F64: 生年月日
B65: 氏 名 | H65: 年 | J65: 月 | L65: 日
B66: 住 所 | C66: (郵便番号 | E66: - | G66: )

Sheet 付表３－２
A1: 付表３－２ 一体的に実施する従たる事業所の指定に係る記載事項
L2: ※多機能型事業実施時は、各事業の付表と付表１３を併せて提出してください。
N4: 受付番号
B6: フリガナ
A7: 施 | B7: 名 称
B8: 所在地 | D8: （郵便番号 － ）
A9: 設 | F9: 県 | I9: 郡・市
B11: 連 絡 先 | D11: 電話番号 | K11: ＦＡＸ番号
A12: 実施主体が地方公共団体である場合は、当該事業の実施について定めてある条例等 | J12: 第 条第 項第 号
A13: サービス | C13: フリガナ | J13: 住 所 | L13: （郵便番号 － ）
A14: 管理責任者 | C14: 氏 名
A15: 従業者の職種・員数 | F15: 医 師 | I15: サービス管理責任者 | L15: 看護職員 | O15: 理学療法士 | R15: 作業療法士
F16: 専従 | G16: ※兼務 | I16: 専従 | J16: ※兼務 | L16: 専従 | M16: ※兼務 | O16: 専従 | P16: ※兼務 | R16: 専従 | S16: ※兼務
B17: 従業者数 | D17: 常勤（人）
D18: 非常勤（人）
B19: 常勤換算後の人数（人）
B20: 基準上の必要人数（人）
F21: 機能訓練指導員 | I21: 生活支援員 | L21: 精神保健福祉士 | O21: その他の従業者
F22: 専従 | G22: ※兼務 | I22: 専従 | J22: ※兼務 | L22: 専従 | M22: ※兼務 | O22: 専従 | P22: ※兼務
B23: 従業者数 | D23: 常勤（人）
D24: 非常勤（人）
B25: 常勤換算後の人数（人）
B26: 基準上の必要人数（人）
B27: 前年度の平均 実利用者数（人） | F27: 施設が申告する障害程度区分の平均値
F28: サービス単位 | I28: ４未満 | M28: ４以上５未満 | Q28: ５以上
F29: サービス単位１
F30: サービス単位２
F31: サービス単位３
A32: 主な掲示事項
B33: 営業日 | F33: 単位ごとの営業日
B34: 営業時間 | F34: 単位ごとのサービス提供時間（送迎時間を除く）（① ： ～ ： ② ： ～ ： ）
B35: 主たる対象者 | F35: 特定無し | H35: 身体障害者
H36: 細分無し | J36: 肢体不自由 | L36: 視覚障害 | N36: 聴覚・言語 | P36: 内部障害
F38: 知的障害者 | H38: 精神障害者 | J38: 難病等対象者
B41: 利用定員 | F41: 人（単位ごとの定員）（① ② ）
B42: 基準上の必要定員
B43: 多機能型実施の有無 | F43: 有 ・ 無
B44: 利用料
B46: その他の費用
B47: その他参考となる事項 | F47: 第三者評価の実施状況 | J47: している ・ していない
F48: 苦情解決の措置概要 | J48: 窓口（連絡先） | N48: 担当者
F49: その他
A50: 協力医療機関 | F50: 名 称 | L50: 主な診療科名
A51: 一体的に管理運営する 他の事業所
A52: 添付書類 | F52: 別添のとおり（登記簿謄本又は条例等、事業所平面図、経歴書、運営規程、利用者からの苦情を解決するために講ずる措置の概要、勤務体制・形態一覧表、設備・備品等一覧表、協力医療機関との契約内容がわかるもの）、事業計画書
A53: （備考）
A54: １．「受付番号」「基準上の必要人数」「基準上の必要値」「基準上の必要定員」欄には、記載しないでください。
A55: ２．記入欄が不足する場合は、適宜欄を設けて記載するか又は別葉に記載した書類を添付してください。
A56: ３．「看護職員」とは保健師、看護師、准看護師のことを言います。
A57: ４．新設の場合には、「前年度の平均利用者数」欄は推定数を記入してください。
A58: ５．「主な掲示事項」欄には、その内容を簡潔に記載してください。
A59: ６．「※兼務」欄は、施設入所支援事業以外との兼務を行う職員について記載してください。
A60: ７．「その他の費用」欄には、入所者に直接金銭の負担を求める場合のサービス内容について記載してください。

Sheet （基準該当）報酬算定区分
B1: （別紙58）
G2: 令和 年 月 日
A4: 基準該当児童発達支援・基準該当放課後等デイサービスの 報酬算定区分に関する届出書
B6: １ 事業所・施設の名称 | D6: =#REF! -> #REF!
B7: ２ 異動区分 | D7: １ 新規
B8: ３ サービスの種類 | D8: =IF((COUNTIF(#REF!,"*児童発達支援（重心*")+COUNTIF(#REF!,"児童発達支援センター"))>0,"○","") -> #REF! | E8: ① 児童発達支援
D9: =IF(COUNTIF(#REF!,"*放課後等デイサービス*")>0,"○","") -> #REF! | E9: ② 放課後等デイサービス
B10: ４-① 申請する報酬算定区分 | E10: １．基準該当児童発達支援給付費（Ⅰ）
E11: ２．基準該当児童発達支援給付費（Ⅱ）
B12: ４-② 申請する報酬算定区分 | E12: １．基準該当放課後等デイサービス費（Ⅰ）
E13: ２．基準該当放課後等デイサービス費（Ⅱ）
B15: 注1 | C15: 「異動区分」欄については、該当するものを選択してください。
B16: 注2 | C16: 「サービスの種類」には、該当するものを選択してください。
B17: 注3 | C17: 「申請する報酬算定区分」については、３で選択したサービスに応じて、算定する区分全てに○を付してください。
B18: 注4 | C18: ３及び４の組み合わせに応じて必要な人員配置が異なる（利用する障害児それぞれの医療的ケア区分の度合によっても異なる）ため、当該人員配置の体制を満たしている場合のみ申請が可能です。

Sheet 自己評価公表届出書
B1: （別紙60）
J2: 年 月 日
C3: 自己評価結果等の公表状況に関する届出書
B5: 法 人 名
B6: 事業所名
B7: サービスの種別 | D7: ①児童発達支援 ②放課後等デイサービス ③保育所等訪問支援
B8: 事業所所在地 （区市町村名）
B9: 指 定 年 月 （児童発達支援） | D9: 年 月 | H9: 指 定 年 月 （放課後等デイサービス） | J9: 年 月
B10: 指 定 年 月 （保育所等訪問支援） | D10: 年 月
B12: 【自己評価結果等の公表状況等】
B13: 公表の実施時期 | D13: 年 月 | H13: 保護者への提示 | J13: 行った ・ 行っていない
B14: 公 表 方 法 | D14: ① インターネット ② その他（ ）
D15: ①の場合は公表内容欄にURLを記載
B16: 公 表 内 容 | D16: ①の場合（URL： ）
B17: 改 善 内 容
B19: 備考１ | C19: 自己評価結果等とは、その提供する支援の質の評価及び改善を行うに当たって従業者による評価を受けた上で行う、自己評価（自ら評価することをいう。）、保護者評価（通所給付決定保護者による評価をいう。）及び改善内容のことを指します。 自己評価結果等の公表については、都道府県に届出がされていない場合に減算することとなる点に留意下さい。
B20: 2 | C20: 減算は、届出がされていない月から届出がされていない状態が解消されるに至った月まで、障害児全員について減算する点に留意下さい。
B21: ３ | C21: 公表内容については、すべての項目について公表が行われていることを確認の上、記入してください。（インターネットで公表している場合はURLを記入するのみで構いません。）改善内容については、自己評価及び保護者評価を踏まえた改善の内容について記入してください。

Sheet 参考様式３-1（管理者経歴書）
A1: （参考様式３）
C2: 管理者経歴書
A4: 事業所の名称 | C4: =変更届出書!W21 -> 0
A5: フリガナ | F5: 生年月日
A6: 氏名
A8: 住所 | B8: （〒 | C8: ー | E8: ）
A10: 電話番号
A11: 東京都障害児通所支援事業所指定協議説明会アンケート提出日
A12: 主な職歴等
A13: 年 月 日～ 年 月 日 | D13: 勤務先等(社名+事業所名) | G13: 職務内容
A29: 職務に関連する資格
A30: 資格の種類 | E30: 資格取得年月日
A38: 備考（研修等の受講の状況等）
A44: 備考１ 住所・電話番号は、自宅のものを記載してください。
A45: ２ 当該管理者が管理する事業所が複数の場合は、「事業所の名称」欄を適宜拡張して、その全てを
A46: 記載してください。

Sheet 参考様式３-2（児発管経歴書）
A1: （参考様式３）
C2: 児童発達支援管理責任者経歴書
A4: 事業所の名称 | C4: =変更届出書!W21 -> 0
A5: フリガナ | F5: 生年月日
A6: 氏名
A8: 住所 | B8: （〒 | C8: ー | E8: ）
A10: 電話番号
A11: 東京都障害児通所支援事業所指定協議説明会アンケート提出日
A12: 主な職歴等
A13: 年 月 日～ 年 月 日 | D13: 勤務先等(社名+事業所名) | G13: 職務内容
A29: 職務に関連する資格
A30: 資格の種類 | E30: 資格取得年月日
A38: 備考（研修等の受講の状況等）
A44: 備考１ 住所・電話番号は、自宅のものを記載してください。
A45: ２ 当該管理者が管理する事業所が複数の場合は、「事業所の名称」欄を適宜拡張して、その全てを
A46: 記載してください。

Sheet 参考様式４（実務経験証明書）
A1: （参考様式４）
A2: 実 務 経 験 証 明 書
J3: 令和 年 月 日
G5: 法人名
G6: 法人所在地
G8: 代表者氏名 | J8: 印
G9: 電話番号
A11: 下記の者の実務経験は、以下のとおりであることを証明します。
A13: 氏 名 | G13: （生年月日 年 月 日）
A14: 現 住 所
A15: 施設又は事業所名
A16: 事 業 種 別 | D16: 該当する事業、施設に〇をしてください。（該当がない場合はその他に記載） (1)障害児入所施設、乳児院、児童家庭支援センター、児童養護施設、障害者支援施設 (2)認可保育園、幼保連携型認定保育園、地域型認定保育園 (3)学校、幼稚園、幼稚園型認定保育園、事業所内保育事業、居宅訪問型保育事業、家庭的保育事業 (4)障害児通所支援事業、放課後児童健全育成事業 (5)小規模保育事業（定員 名）、病児保育事業、地域子育て支援拠点事業、子育て援助活動支援事業 (6)障害福祉サービス事業（生活介護、共同生活援助、居宅介護、就労継続支援など） (7)老人福祉施設、老人居宅介護、老人通所介護、地域包括支援センター、更生施設 (8)障害児（者）相談支援事業、児童相談所、地域生活支援事業、障害者就業支援センター (9)その他（ ）
D17: (10)認可外保育園、企業主導型保育事業
A18: 業 務 期 間
D19: 実勤務日数（ 日） 週平均 日
A20: 業 務 内 容 | D20: 職名 | I20: 常勤 ・ 非常勤
A24: （注） | B24: １． | C24: 業務期間欄 対象者が要援護者に対する直接的な援助を行っていた期間を記入してください。 （産休・育休・療養休暇や長期研修期間等は業務期間となりません）
C26: 実務経験証明書作成日までの期間または退職した日までの期間を記入してください。
B28: ２． | C28: 業務内容欄 指導員、生活指導員、看護士等の職名を記入し、業務について、「主に○○に対し△△などの直接支援業務（相談業務）」など具体的に記入してください。
B32: ３． | C32: 証明内容を訂正した場合は、証明権者の職印を押印してください。なお、修正液による訂正は認められません。
B35: ４． | C35: 区市町村委託事業や区市町村補助事業等の公費支出事業での実務経験の場合は、⑨その他に事業名を記載し、業務期間中に公費支出されていることが確認できる資料も添付してください。(例：補助金支給決定通知書等）

Sheet ★勤務体制一覧表(数式有り）
A1: 【参考】
A2: ◆1 福祉専門職員配置加算の対象者 | R2: : | S2: 有資格者（社会福祉士、介護福祉士、精神保健福祉士、公認心理士）、法人内勤続年数3年以上（直接支援）、他の福祉サービスとの常勤兼務
A3: ◆2 児童指導員等加配加算の対象者 | R3: : | S3: 児童指導員、保育士、理学療法士、作業療法士、言語聴覚士、手話通訳士、手話通訳者、特別支援学校免許取得者、心理担当職員（心理学修了等）、視覚障害児支援担当職員（研修修了等）、強度行動障害支援者養成研修（基礎研修）修了者 ※児童福祉事業(◆4）の経験が5年以上、5年未満で報酬算定が異なる（資格取得前後は問わない）
A4: ◆3 専門的支援体制加算の対象者 | R4: : | S4: 児童指導員（※）、保育士（※）、理学療法士、作業療法士、言語聴覚士、心理担当職員（心理学修了等）又は視覚障害児支援担当職員（研修修了等） （※）資格取得後、5年以上児童福祉事業(◆4）に従事したものに限る
A5: ◆4 児童福祉事業 | R5: : | S5: 障害児通所支援事業（児発、放デイ等）、障害児入所施設、障害児相談支援事業、放課後児童健全育成事業（学童保育等）、保育所（認可、認証等）などの児童福祉法に基づく社会福祉事業または幼稚園、 ★特別支援学校や★★特別支援学級での教育（ただし、★・★★は専門的支援体制加算の対象外）
A6: ◆5 強度行動障害支援者養成研修修了者 | R6: : | S6: 行動援護従業者養成研修修了者は、強度行動障害支援者養成研修（実践研修）修了者と同等の扱いとします。また、重度訪問介護従業者養成研修行動障害支援課程修了者は、強度行動障害支援者養成研修（基礎研修）修了者と同等の扱いとします。
A8: 従業者の勤務の体制及び勤務形態一覧表
A10: サービス種類 | G10: 選択してください。 | U10: 事業所・施設名 | W10: =TEXT(#REF!,"#") -> #REF! | AL10: 定員 | AO10: 入力してください。
A11: 必須 | U11: 加算を取得する（している）場合、 選択してください | Z11: 営業時間に対し、基準職員を配置する必要があります | BB11: 4週の合計 | BE11: 週平均の勤務時間 | BH11: 常勤換算後の人数
A12: 職種 | G12: 勤務形態 (専従･兼務/常勤･非常勤) | L12: 氏名 | S12: 資格証の提出有無 | T12: 基準・ 加配職員 | U12: 福祉専門職加算（資格） | V12: ◆２ 児童指導員等加配加算対象者 | W12: ◆３ 専門的支援体制加算対象者 | X12: ◆５ 強度行動障害支援者養成研修 | Y12: 育児介護等時短届出日 | Z12: 第１週 | AG12: 第２週 | AN12: 第３週 | AU12: 第４週
Z13: 1 | AA13: 2 | AB13: 3 | AC13: 4 | AD13: 5 | AE13: 6 | AF13: 7 | AG13: 8 | AH13: 9 | AI13: 10 | AJ13: 11 | AK13: 12 | AL13: 13 | AM13: 14 | AN13: 15 | AO13: 16 | AP13: 17 | AQ13: 18 | AR13: 19 | AS13: 20 | AT13: 21 | AU13: 22 | AV13: 23 | AW13: 24 | AX13: 25 | AY13: 26 | AZ13: 27 | BA13: 28
Z14: 月 | AA14: 火 | AB14: 水 | AC14: 木 | AD14: 金 | AE14: 土 | AF14: 日 | AG14: 月 | AH14: 火 | AI14: 水 | AJ14: 木 | AK14: 金 | AL14: 土 | AM14: 日 | AN14: 月 | AO14: 火 | AP14: 水 | AQ14: 木 | AR14: 金 | AS14: 土 | AT14: 日 | AU14: 月 | AV14: 火 | AW14: 水 | AX14: 木 | AY14: 金 | AZ14: 土 | BA14: 日
BB15: =SUM(Z15:BA15) -> 0 | BE15: =ROUNDDOWN(BB15/4,1) -> 0 | BH15: =IFERROR(ROUNDDOWN(BE15/$BB$26,1),"")
BB16: =SUM(Z16:BA16) -> 0 | BE16: =ROUNDDOWN(BB16/4,1) -> 0 | BH16: =IFERROR(ROUNDDOWN(BE16/$BB$26,1),"")
BB17: =SUM(Z17:BA17) -> 0 | BE17: =ROUNDDOWN(BB17/4,1) -> 0 | BH17: =IFERROR(ROUNDDOWN(BE17/$BB$26,1),"")
BB18: =SUM(Z18:BA18) -> 0 | BE18: =ROUNDDOWN(BB18/4,1) -> 0 | BH18: =IFERROR(ROUNDDOWN(BE18/$BB$26,1),"")
BB19: =SUM(Z19:BA19) -> 0 | BE19: =ROUNDDOWN(BB19/4,1) -> 0 | BH19: =IFERROR(ROUNDDOWN(BE19/$BB$26,1),"")
BB20: =SUM(Z20:BA20) -> 0 | BE20: =ROUNDDOWN(BB20/4,1) -> 0 | BH20: =IFERROR(ROUNDDOWN(BE20/$BB$26,1),"")
BB21: =SUM(Z21:BA21) -> 0 | BE21: =ROUNDDOWN(BB21/4,1) -> 0 | BH21: =IFERROR(ROUNDDOWN(BE21/$BB$26,1),"")
BB22: =SUM(Z22:BA22) -> 0 | BE22: =ROUNDDOWN(BB22/4,1) -> 0 | BH22: =IFERROR(ROUNDDOWN(BE22/$BB$26,1),"")
BB23: =SUM(Z23:BA23) -> 0 | BE23: =ROUNDDOWN(BB23/4,1) -> 0 | BH23: =IFERROR(ROUNDDOWN(BE23/$BB$26,1),"")
BB24: =SUM(Z24:BA24) -> 0 | BE24: =ROUNDDOWN(BB24/4,1) -> 0 | BH24: =IFERROR(ROUNDDOWN(BE24/$BB$26,1),"")
A25: 合計 | Z25: =SUM(Z15:Z24) -> 0 | AA25: =SUM(AA15:AA24) -> 0 | AB25: =SUM(AB15:AB24) -> 0 | AC25: =SUM(AC15:AC24) -> 0 | AD25: =SUM(AD15:AD24) -> 0 | AE25: =SUM(AE15:AE24) -> 0 | AF25: =SUM(AF15:AF24) -> 0 | AG25: =SUM(AG15:AG24) -> 0 | ... BA25: =SUM(BA15:BA24) -> 0 | BB25: =SUM(BB15:BD24) -> 0 | BE25: =SUM(BE15:BG24) -> 0 | BH25: =SUM(BH15:BJ24) -> 0
A26: 1週間に当該事業所・施設における常勤職員の勤務すべき時間数
A27: 営業時間 | BB27: =SUM(Z27:BA27) -> 0
A28: サービス提供時間 | BB28: =SUM(Z28:BA28) -> 0
A30: 注１ 本表はサービスの種類ごとに作成してください。（例：①児童発達支援と②保育所等訪問支援の多機能型事業所の場合、①と②それぞれのものと①と②の従業者合わせたものの3枚必要になります）
A31: 注２ 資格証の提出有無欄については、提出済みの従業者は○にしてください。未提出の従業者は資格証又は実務経験証明書を添付してください。
A32: 注３ 基準・加配職員欄については、人員基準上の従業者を基準とし、それ以外の従業者を加配とお示しください。
A33: 注４ 児童発達支援・放課後等デイサービスにあっては、その他の従業者については指導員と記載してください。

Sheet ★勤務体制一覧表(数式なし）
A1: 【参考】
A2: ◆1 福祉専門職員配置加算の対象者 | R2: : | S2: 有資格者（社会福祉士、介護福祉士、精神保健福祉士、公認心理士）、法人内勤続年数3年以上（直接支援）、他の福祉サービスとの常勤兼務
A3: ◆2 児童指導員等加配加算の対象者 | R3: : | S3: 児童指導員、保育士、理学療法士、作業療法士、言語聴覚士、手話通訳士、手話通訳者、特別支援学校免許取得者、心理担当職員（心理学修了等）、視覚障害児支援担当職員（研修修了等）、強度行動障害支援者養成研修（基礎研修）修了者 ※児童福祉事業(◆4）の経験が5年以上、5年未満で報酬算定が異なる（資格取得前後は問わない）
A4: ◆3 専門的支援体制加算の対象者 | R4: : | S4: 児童指導員（※）、保育士（※）、理学療法士、作業療法士、言語聴覚士、心理担当職員（心理学修了等）又は視覚障害児支援担当職員（研修修了等） （※）資格取得後、5年以上児童福祉事業(◆4）に従事したものに限る
A5: ◆4 児童福祉事業 | R5: : | S5: 障害児通所支援事業（児発、放デイ等）、障害児入所施設、障害児相談支援事業、放課後児童健全育成事業（学童保育等）、保育所（認可、認証等）などの児童福祉法に基づく社会福祉事業または幼稚園、 ★特別支援学校や★★特別支援学級での教育（ただし、★・★★は専門的支援体制加算の対象外）
A6: ◆5 強度行動障害支援者養成研修修了者 | R6: : | S6: 行動援護従業者養成研修修了者は、強度行動障害支援者養成研修（実践研修）修了者と同等の扱いとします。また、重度訪問介護従業者養成研修行動障害支援課程修了者は、強度行動障害支援者養成研修（基礎研修）修了者と同等の扱いとします。
A8: 従業者の勤務の体制及び勤務形態一覧表
A10: サービス種類 | U10: 事業所・施設名 | AL10: 定員
A11: 必須 | U11: 加算を取得する（している）場合、 選択してください | Z11: 営業時間に対し、基準職員を配置する必要があります | BB11: 4週の合計 | BE11: 週平均の勤務時間 | BH11: 常勤換算後の人数
A12: 職種 | G12: 勤務形態 (専従･兼務/常勤･非常勤) | L12: 氏名 | S12: 資格証の提出有無 | T12: 基準・ 加配職員 | U12: 福祉専門職加算（資格） | V12: ◆２ 児童指導員等加配加算対象者 | W12: ◆３ 専門的支援体制加算対象者 | X12: ◆５ 強度行動障害支援者養成研修 | Y12: 育児介護等時短届出日 | Z12: 第１週 | AG12: 第２週 | AN12: 第３週 | AU12: 第４週
Z13: 1 | AA13: 2 | AB13: 3 | AC13: 4 | AD13: 5 | AE13: 6 | AF13: 7 | AG13: 8 | AH13: 9 | AI13: 10 | AJ13: 11 | AK13: 12 | AL13: 13 | AM13: 14 | AN13: 15 | AO13: 16 | AP13: 17 | AQ13: 18 | AR13: 19 | AS13: 20 | AT13: 21 | AU13: 22 | AV13: 23 | AW13: 24 | AX13: 25 | AY13: 26 | AZ13: 27 | BA13: 28
Z14: 月 | AA14: 火 | AB14: 水 | AC14: 木 | AD14: 金 | AE14: 土 | AF14: 日 | AG14: 月 | AH14: 火 | AI14: 水 | AJ14: 木 | AK14: 金 | AL14: 土 | AM14: 日 | AN14: 月 | AO14: 火 | AP14: 水 | AQ14: 木 | AR14: 金 | AS14: 土 | AT14: 日 | AU14: 月 | AV14: 火 | AW14: 水 | AX14: 木 | AY14: 金 | AZ14: 土 | BA14: 日
A25: 合計
A26: 1週間に当該事業所・施設における常勤職員の勤務すべき時間数
A27: 営業時間
A28: サービス提供時間
A30: 注１ 本表はサービスの種類ごとに作成してください。（例：①児童発達支援と②保育所等訪問支援の多機能型事業所の場合、①と②それぞれのものと①と②の従業者合わせたものの3枚必要になります）
A31: 注２ 資格証の提出有無欄については、提出済みの従業者は○にしてください。未提出の従業者は資格証又は実務経験証明書を添付してください。
A32: 注３ 基準・加配職員欄については、人員基準上の従業者を基準とし、それ以外の従業者を加配とお示しください。
A33: 注４ 児童発達支援・放課後等デイサービスにあっては、その他の従業者については指導員と記載してください。

Sheet 参考様式8（協力医療機関）
A1: 参考様式８
E2: 協力医療機関について
E4: 事業所名 | F4: =TEXT(#REF!,"#") -> #REF!
E5: 所在地 | F5: =CONCATENATE(TEXT(#REF!,"#"),CHAR(10),TEXT(#REF!,"#")) -> #REF!
A7: 1 | B7: 医療機関名 | D7: =TEXT(#REF!,"#") -> #REF!
B8: 所在地
B9: 診療科名 | D9: =TEXT(#REF!,"#") -> #REF!
B10: 事業所からの距離 | D10: 徒歩 | F10: 分 | G10: 車 | I10: 分
A11: 2 | B11: 医療機関名
B12: 所在地
B13: 診療科名
B14: 事業所からの距離 | D14: 徒歩 | F14: 分 | G14: 車 | I14: 分
A15: 3 | B15: 医療機関名
B16: 所在地
B17: 診療科名
B18: 事業所からの距離 | D18: 徒歩 | F18: 分 | G18: 車 | I18: 分
A19: ※協定書の写しも添付してください。

Sheet 参考様式７（非該当誓約書）
A1: （参考様式７） | J1: （表）
A3: 児童福祉法第２１条の５の１５第３項各号の規定に該当しない旨の誓約書
O5: 令和 年 月 日
B6: 文京区長 殿
H7: 申請者 | J7: 所在地 | L7: 〒 ー
L8: =変更届出書!W7 -> 0
J10: 名 称 | L10: =変更届出書!W8 -> 0
H11: 代表者 | J11: 住 所 | L11: 〒 ー
J14: 氏 名 | L14: =変更届出書!Z9 -> 0 | R14: 印
A17: 当法人（裏面に記載する役員等を含む。）は、下記に掲げる児童福祉法第２１条の５の１５第３項各号の規定のいずれにも該当しないことを誓約します。
A20: 記
B22: 【児童福祉法第２１条の５の１５第３項各号の規定】（一部要約）
A24: １ | B24: 申請者が都道府県の条例で定める者でないとき。
A25: ２ | B25: 当該申請に係る障害児通所支援事業所の従業者の知識及び技能並びに人員が、第２１条の５の１９第１項の都道府県の条例で定める基準を満たしていないとき。
A27: ３ | B27: 申請者が、第２１条の５の１９第２項の都道府県の条例で定める指定通所支援の事業の設備及び運営に関する基準に従って適正な障害児通所支援事業の運営をすることができないと認められるとき。
A29: ４ | B29: 申請者が禁錮以上の刑に処せられ、その執行を終わり、又は執行を受けることがなくなるまでの者であるとき。
A30: ５ | B30: 申請者が、この法律その他国民の保健医療若しくは福祉に関する法律で政令で定めるもの（※）の規定により罰金の刑に処せられ、その執行を終わり、又は執行を受けることがなくなるまでの者であるとき。
B31: （※）障害者総合支援法、身体障害者福祉法、精神保健及び精神障害者福祉に関する法律、社会福祉法、老人福祉法、社会福祉士及び介護福祉士法、介護保険法、精神保健福祉士法
A33: ５の２ | B33: 申請者が、労働に関する法律の規定であつて政令で定めるもの(※)により罰金の刑に処せられ、その執行を終わり、又は執行を受けることがなくなるまでの者であるとき。
B35: (※)労働基準法、最低賃金法、賃金の支払の確保等に関する法律
A36: ６ | B36: 申請者が、第２１条の５の２４第１項又は第３３条の１８第６項の規定により指定を取り消され、その取消しの日から起算して５年を経過しない者であるとき。
A38: ７ | B38: 申請者と密接な関係を有する者が、第２１条の５の２４第１項又は第３３条の１８第６項の規定により指定を取り消され、その取消しの日から起算して５年を経過していないとき。
A40: ８ | B40: （削除）
A41: ９ | B41: 申請者が、第２１条の５の２４第１項又は第３３条の１８第６項の規定による指定の取消しの処分に係る行政手続法第１５条の規定による通知があつた日から当該処分をする日又は処分をしないことを決定する日までの間に第２１条の５の２０第４項の規定による事業の廃止の届出をした者で、当該届出の日から起算して５年を経過しないものであるとき。
A44: 10 | B44: 申請者が、第２１条の５の２２第１項の規定による検査が行われた日から聴聞決定予定日までの間に第２１条の５の２０第４項の規定による事業の廃止の届出をした者で、当該届出の日から起算して５年を経過しないものであるとき。
A47: 11 | B47: 第９号に規定する期間内に第２１条の５の２０第４項の規定による事業の廃止の届出があつた場合において、申請者が、同号の通知の日前６０日以内に当該事業の廃止の届出に係る法人の役員等又は当該届出に係る法人でない者の管理者であつた者で、当該届出の日から起算して５年を経過しないものであるとき。
A49: 12 | B49: 申請者が、指定の申請前５年以内に障害児通所支援に関し不正又は著しく不当な行為をした者であるとき。
A50: 13 | B50: 申請者が、法人で、その役員等のうちに第四号から第六号まで又は第九号から前号までのいずれかに該当する者のあるものであるとき。
A51: 14 | B51: 申請者が、法人でない者で、その管理者が第四号から第六号まで又は第九号から第十二号までのいずれかに該当する者であるとき。
B52: ＊必ず表裏を両面印刷により使用してください。
A53: （裏）
H57: 申請者（法人）名（ | L57: =変更届出書!W8 -> 0 | S57: )
A58: （フリガナ） | F58: 役職名・呼称 | J58: 住 所
A59: 氏 名 | F59: 生年月日
A61: =変更届出書!Z9 -> 0
F62: 管理者
A93: 注 | B93: 当該法人の役員（業務を執行する社員、取締役、執行役又はこれらに準ずる者をいい、相談役、顧問その他いかなる名称を有する者であるかを問わず、法人に対し業務を執行する社員、取締役、執行役又はこれらに準ずる者と同等以上の支配力を有するものと認められる者を含む。）及び事業所を管理する者について記入してください。

Sheet 参考様式１０（耐震化）
AI1: 別 紙
A2: 社会福祉施設等における耐震化に関する調査票
A4: ※ １施設で複数の棟がある場合は、大変恐縮ですが調査票をコピーして、棟ごとに調査票を作成してください。
A6: ※ 回答できない事情がある場合は、欄外にその旨を記入してください。
A8: 所属団体(法人)名 | B8: 名 称 | E8: =変更届出書!W8 -> 0 | T8: 施設名 | U8: 名 称 | X8: =変更届出書!W21 -> 0 | AF8: 事業所番号
B9: 所在地 | E9: =変更届出書!W7 -> 0 | U9: 所在地 | X9: =変更届出書!W23 -> 0
B10: 担当者 | U10: 担当者
B11: 電 話 | U11: 電 話
A13: ① | B13: 施設種別・棟の名称 (複数棟所有で棟名がない場合は、便宜上「Ａ棟などの呼称で区分してください。） | J13: 施設種別 （別表から選択してください） | AA13: 棟の名称 (記入例：管理棟）
Q14: =IF(AND(J14<>"",J14<>"―"),VLOOKUP(J14,$B$90:$E$117,4,FALSE),"")
A15: ② | B15: 併設施設について （同一建物（棟）内に他の社会福祉施設が併設されている場合や、複数のサービスを提供している場合は御記入ください。） | J15: 施設種別 （別表から選択してください） | AA15: 施設名称
Q16: =IF(AND(J16<>"",J16<>"―"),VLOOKUP(J16,$B$90:$E$117,4,FALSE),"")
J17: ― | Q17: =IF(AND(J17<>"",J17<>"―"),VLOOKUP(J17,$B$90:$E$117,4,FALSE),"")
J18: ― | Q18: =IF(AND(J18<>"",J18<>"―"),VLOOKUP(J18,$B$90:$E$117,4,FALSE),"")
J19: ― | Q19: =IF(AND(J19<>"",J19<>"―"),VLOOKUP(J19,$B$90:$E$117,4,FALSE),"")
J20: ※書ききれない場合は、裏面欄外に御記入ください。
A21: ③ | B21: 施設について （Ａ～Ｇについて御回答ください） | J21: Ａ | K21: 施設設置者の公私区分 （公立には、公設民営を含む） | AA21: 選択下さい。
J22: Ｂ | K22: 建物の構造 | AB22: 1. 木造 | AL22: FALSE
AB23: 2. 鉄筋ｺﾝｸﾘｰﾄ構造（RC） | AL23: FALSE
AB24: 3. 鉄骨構造（Ｓ） | AL24: FALSE
AB25: 4. 鉄骨鉄筋ｺﾝｸﾘｰﾄ構造（SRC） | AL25: FALSE
AB26: 5. その他 （ ） | AF26: （ ） | AL26: FALSE
J27: Ｃ | K27: 建物が竣工（完成）した年 | AA27: 昭和 年 月
K28: ※昭和５６年６月１日以降に建築確認を行った建物は、現在の耐震基準に適合しています。 | AA28: 昭和５７年１月１日以降
AA29: → Gまで入力して終了
J30: Ｄ | K30: 建物の自己所有・賃貸の別 （無償貸与物件は賃貸） | AA30: 選択下さい。
J31: Ｅ | K31: 建物の階数 | AA31: 階建
L32: （ビル一室等使用の場合は、当該建物総階数）
J33: Ｆ | K33: 建物の延べ床面積 （ビル一室等使用の場合は、上段に施設面積、下段に建物総面積） | AA33: 施設面積 | AK33: ㎡
AA34: 建物総面積 | AK34: ㎡
J35: Ｇ | K35: 増改築の有無 | AB35: 有（ 年 月） | AI35: ・ | AK35: 無 | AL35: FALSE | AM35: FALSE
A36: ④ | B36: 耐震診断の実施状況 について （Ａ・Ｂのいずれかにチェック☑をしてください） | K36: Ａ | L36: 耐震診断実施済み | AA36: 実施日： | AH36: 年 | AK36: 月 | AL36: FALSE
K37: ※Ｉｗ値（木造）・Ｉｓ値（非木造）は、階ごと等複数算出されている場合、全ての値を記載してください。 | AA37: Ｉｗ値・Ｉｓ値：
AH38: → ⑤へ
K39: Ｂ | L39: 耐震診断未実施 | R39: → ⑥へ | AL39: FALSE
AH40: ⇒裏面へ
A41: ⑤ | B41: 耐震診断の結果と耐震化の実施状況について （Ａ・Ｂのいずれかにチェック☑をしてください） | K41: Ａ | L41: 耐震診断の結果、耐震化は不要 | AL41: FALSE
K42: （全ての階において、木造:Ｉｗ値１．1以上、非木造：Ｉｓ値０．7以上） | AH42: → 終了
K43: Ｂ | L43: 耐震診断の結果、耐震化が必要（いずれかの階で、Iw値が1.1未満又はIs値0.7未満） | AL43: FALSE
K44: 耐震化の実施状況 ： １～４の中から、あてはまる項目をチェック（☑）してください。
L45: 1．改修済み | AL45: FALSE
L46: 2．改修中 | AL46: FALSE
L47: 3．平成２５年度の間に耐震改修終了予定 | AL47: FALSE
L48: 4 ．その他 | P48: ： | Q48: ア～クの中から、最もあてはまる状況に一つチェック（☑）してください。 | AL48: FALSE
Q49: ア. 地方自治体において、耐震工事経費確保困難 | AL49: FALSE
Q50: イ. 法人において、耐震工事経費確保困難 | AL50: FALSE
Q51: ウ. 改築のための土地確保が困難 | AL51: FALSE
Q52: エ. 関係者間の調整が困難 | AL52: FALSE
Q53: オ. 平成２６年度以降、改修予定 | AL53: FALSE
R54: （実施時期： | X54: 年 | Z54: 月）
Q55: カ. 施設が休止中若しくは現在、使用されていない | AL55: FALSE
Q56: キ. 既に耐震工事済み | AL56: FALSE
Q57: ク. その他 | AL57: FALSE
R58: 具体的に ：
AA61: → 終了
A62: ⑥ | B62: 今後の耐震化予定 について | K62: 今後の耐震化予定 ： １～５の中から、最もあてはまるものにチェック☑してください。
L63: 1．改修中 | AL63: FALSE
L64: 2．平成２５年度の間に耐震改修終了予定 | AL64: FALSE
L65: 3．診断予定 （実施時期： | W65: 年 | Y65: 月） | AL65: FALSE
L66: 4．廃止予定 （廃止時期： | W66: 年 | Y66: 月） | AL66: FALSE
L67: 5．上記以外 | P67: ： | Q67: ア～クの中から、最もあてはまる理由を一つチェック☑してください。 | AL67: FALSE
Q68: ア. 地方自治体において、耐震工事経費確保困難 | AL68: FALSE
Q69: イ. 法人において、耐震工事経費確保困難 | AL69: FALSE
Q70: ウ. 改築のための土地確保が困難 | AL70: FALSE
Q71: エ. 関係者間の調整が困難 | AL71: FALSE
Q72: オ. 平成２６年度以降、改修予定 | AL72: FALSE
S73: （実施時期 | Y73: 年 | AA73: 月）
Q74: カ. 施設が休止中若しくは現在、使用されていない | AL74: FALSE
Q75: キ. 既に耐震工事済み | AL75: FALSE
Q76: ク. その他 | AL76: FALSE
R77: 具体的に ：
AA80: → 終了
B87: （別表）
A88: 施設種別一覧
B90: ="（２－１）" -> （２－１） | E90: 障害福祉サービス事業所（療養介護を実施する事業所）
B91: ="（２－２）" -> （２－２） | E91: 障害福祉サービス事業所（生活介護を実施する事業所）
B92: ="（２－３）" -> （２－３） | E92: 障害福祉サービス事業所（短期入所を実施する事業所）
B93: ="（２－４）" -> （２－４） | E93: 障害福祉サービス事業所（自立訓練(機能訓練)を実施する事業所）
B94: ="（２－５）" -> （２－５） | E94: 障害福祉サービス事業所（自立訓練(生活訓練)を実施する事業所）
B95: ="（２－６）" -> （２－６） | E95: 障害福祉サービス事業所（宿泊型自立訓練を実施する事業所）
B96: ="（２－７）" -> （２－７） | E96: 障害福祉サービス事業所（就労移行支援を実施する事業所）
B97: ="（２－８）" -> （２－８） | E97: 障害福祉サービス事業所（就労継続支援(Ａ型)を実施する事業所）
B98: ="（２－９）" -> （２－９） | E98: 障害福祉サービス事業所（就労継続支援(Ｂ型)を実施する事業所）
B99: ="（２－１０）" -> （２－１０） | E99: 障害者支援施設（生活介護又は自立訓練を行うものに限る）
B100: ="（２－１１）" -> （２－１１） | E100: 障害者支援施設（（２－１０）以外）
B101: ="（２－１２）" -> （２－１２） | E101: （旧児童デイサービスを実施していた事業所のうち）児童発達支援
B102: ="（２－１３）" -> （２－１３） | E102: （旧児童デイサービスを実施していた事業所のうち）放課後等デイサービス
B103: ="（２－１４）" -> （２－１４） | E103: 補装具製作施設
B104: ="（２－１５）" -> （２－１５） | E104: 盲導犬訓練施設
B105: ="（２－１６）" -> （２－１６） | E105: 点字図書館
B106: ="（２－１７）" -> （２－１７） | E106: 聴覚障害者情報提供施設
B107: ="（２－１８）" -> （２－１８） | E107: 旧知的障害児施設（入所）
B108: ="（２－１９）" -> （２－１９） | E108: 旧知的障害児通園施設（通所）
B109: ="（２－２０）" -> （２－２０） | E109: 旧盲ろうあ児施設（入所）
B110: ="（２－２１）" -> （２－２１） | E110: 旧難聴幼児通園施設（通所）
B111: ="（２－２２）" -> （２－２２） | E111: 旧肢体不自由児施設（入所）
B112: ="（２－２３）" -> （２－２３） | E112: 旧肢体不自由児通園施設（通所）
B113: ="（２－２４）" -> （２－２４） | E113: 旧重症心身障害児施設（入所）
B114: ="（２－２５）" -> （２－２５） | E114: 旧重症心身障害児（者）通園事業施設（通所）
B115: ="（２－２６）" -> （２－２６） | E115: 福祉ホーム（身体・精神Ａ）
...
